BEGIN:VCALENDAR
VERSION:2.0
PRODID:-//ChamberMaster//Event Calendar 2.0//EN
METHOD:PUBLISH
X-PUBLISHED-TTL:P1H
REFRESH-INTERVAL:P1H
CALSCALE:GREGORIAN
BEGIN:VTIMEZONE
TZID:America/New_York
BEGIN:DAYLIGHT
RRULE:FREQ=YEARLY;BYMONTH=3;BYDAY=2SU
DTSTART:20070101T000000
TZOFFSETFROM:-0500
TZOFFSETTO:-0400
TZNAME:Eastern Daylight Time
END:DAYLIGHT
BEGIN:STANDARD
RRULE:FREQ=YEARLY;BYMONTH=11;BYDAY=1SU
DTSTART:20070101T000000
TZOFFSETFROM:-0400
TZOFFSETTO:-0500
TZNAME:Eastern Standard Time
END:STANDARD
END:VTIMEZONE
BEGIN:VEVENT
DTSTART;TZID=America/New_York:20260424T100000
DTEND;TZID=America/New_York:20260425T190000
X-MICROSOFT-CDO-ALLDAYEVENT:FALSE
SUMMARY:Day's Jewelers Wedding Band Event
DESCRIPTION:Join us at Day's Jewelers in Auburn for our annual Wedding Band Weekend event where guests can enjoy savings of 20% off on all Wedding and Anniversary Bands! Appointments are highly encouraged. Please call or text 207-784-6766 to schedule yours!
X-ALT-DESC;FMTTYPE=text/html:Join us at Day's Jewelers in Auburn for our annual Wedding Band Weekend event where guests can enjoy savings of 20% off on all Wedding and Anniversary Bands! Appointments are highly encouraged. Please call or text 207-784-6766 to schedule yours!
LOCATION:600 Center St Suite 11 Shaw's Plaza Auburn ME 04210
UID:e.4124.1444687
SEQUENCE:3
DTSTAMP:20260423T063605Z
URL:https://events.upliftlamaine.com/list/Details/day-s-jewelers-wedding-band-event-1711091?sourceTypeId=Hub
END:VEVENT
END:VCALENDAR
