BEGIN:VCALENDAR
VERSION:2.0
PRODID:-//ChamberMaster//Event Calendar 2.0//EN
METHOD:PUBLISH
X-PUBLISHED-TTL:P1H
REFRESH-INTERVAL:P1H
CALSCALE:GREGORIAN
BEGIN:VTIMEZONE
TZID:America/New_York
BEGIN:DAYLIGHT
RRULE:FREQ=YEARLY;BYMONTH=3;BYDAY=2SU
DTSTART:20070101T000000
TZOFFSETFROM:-0500
TZOFFSETTO:-0400
TZNAME:Eastern Daylight Time
END:DAYLIGHT
BEGIN:STANDARD
RRULE:FREQ=YEARLY;BYMONTH=11;BYDAY=1SU
DTSTART:20070101T000000
TZOFFSETFROM:-0400
TZOFFSETTO:-0500
TZNAME:Eastern Standard Time
END:STANDARD
END:VTIMEZONE
BEGIN:VEVENT
DTSTART;TZID=America/New_York:20260507T150000
DTEND;TZID=America/New_York:20260507T200000
X-MICROSOFT-CDO-ALLDAYEVENT:FALSE
SUMMARY:Bowl for Kids' Sake
DESCRIPTION:Join us for Bowl For Kids' Sake\, a fun\, high-energy day in support of mentoring at-risk youth in our community. Participants form teams\, raise pledges\, and enjoy a celebration filled with bowling\, prizes\, and community spirit. Money raised supports children in Androscoggin County. To register your team\, click here. Choose a time to bowl from 3-8 PM. Questions or to sponsor\, contact Jennifer Cartmell
X-ALT-DESC;FMTTYPE=text/html:<!DOCTYPE html><html><head><title></title></head><body aria-disabled="false" spellcheck="false"><p>Join us for Bowl For Kids&rsquo\; Sake\, a fun\, high-energy day in support of mentoring at-risk youth in our community. Participants form teams\, raise pledges\, and enjoy a celebration filled with bowling\, prizes\, and community spirit. Money raised supports children in Androscoggin County. To register your team\, <a fr-original-style="" href="https://www.bbbsbathbrunswick.org/bowl" style="user-select: auto\;">click here</a>. Choose a time to bowl from 3-8 PM. Questions or to sponsor\, contact <a fr-original-style="" href="mailto:%20jen.cartmell@bbbsbathbrunswick.org" style="user-select: auto\;">Jennifer Cartmell</a></p></body></html>
LOCATION:85 Maine Street Brunswick ME 04011
UID:e.4124.1385767
SEQUENCE:3
DTSTAMP:20260424T195335Z
URL:https://events.upliftlamaine.com/list/Details/bowl-for-kids-sake-1636353?sourceTypeId=Hub
END:VEVENT
END:VCALENDAR
